BEGIN:VCALENDAR
VERSION:2.0
PRODID:-//Hirschmendig Aktiengesellschaft - ECPv6.15.20//NONSGML v1.0//EN
CALSCALE:GREGORIAN
METHOD:PUBLISH
X-WR-CALNAME:Hirschmendig Aktiengesellschaft
X-ORIGINAL-URL:https://hirschmendig.de
X-WR-CALDESC:Veranstaltungen für Hirschmendig Aktiengesellschaft
REFRESH-INTERVAL;VALUE=DURATION:PT1H
X-Robots-Tag:noindex
X-PUBLISHED-TTL:PT1H
BEGIN:VTIMEZONE
TZID:Europe/Berlin
BEGIN:DAYLIGHT
TZOFFSETFROM:+0100
TZOFFSETTO:+0200
TZNAME:CEST
DTSTART:20250330T010000
END:DAYLIGHT
BEGIN:STANDARD
TZOFFSETFROM:+0200
TZOFFSETTO:+0100
TZNAME:CET
DTSTART:20251026T010000
END:STANDARD
BEGIN:DAYLIGHT
TZOFFSETFROM:+0100
TZOFFSETTO:+0200
TZNAME:CEST
DTSTART:20260329T010000
END:DAYLIGHT
BEGIN:STANDARD
TZOFFSETFROM:+0200
TZOFFSETTO:+0100
TZNAME:CET
DTSTART:20261025T010000
END:STANDARD
BEGIN:DAYLIGHT
TZOFFSETFROM:+0100
TZOFFSETTO:+0200
TZNAME:CEST
DTSTART:20270328T010000
END:DAYLIGHT
BEGIN:STANDARD
TZOFFSETFROM:+0200
TZOFFSETTO:+0100
TZNAME:CET
DTSTART:20271031T010000
END:STANDARD
END:VTIMEZONE
BEGIN:VEVENT
DTSTART;TZID=Europe/Berlin:20260223T200000
DTEND;TZID=Europe/Berlin:20260223T235900
DTSTAMP:20260421T104528
CREATED:20221231T114046Z
LAST-MODIFIED:20250313T134322Z
UID:2102-1771876800-1771891140@hirschmendig.de
SUMMARY:Hirschmendig Aktionärsversammlung 2026
DESCRIPTION:
URL:https://hirschmendig.de/event/hirschmendig-aktionaersversammlung-2023
LOCATION:Hotel-Restaurant Goldener Raben\, Raben 7\, Furtwangen\, Baden-Württemberg\, 78120\, Deutschland
END:VEVENT
BEGIN:VEVENT
DTSTART;TZID=Europe/Berlin:20260223T180000
DTEND;TZID=Europe/Berlin:20260223T235900
DTSTAMP:20260421T104528
CREATED:20230228T104828Z
LAST-MODIFIED:20250313T134456Z
UID:2140-1771869600-1771891140@hirschmendig.de
SUMMARY:Vor der Aktionärsversammlung 2026 besteht die Möglichkeit im Gasthaus Raben zu essen
DESCRIPTION:
URL:https://hirschmendig.de/event/vor-der-aktionaersversammlung-besteht-die-moeglichkeit-im-gasthaus-raben-zu-essen-um-so-gestaerkt-an-der-aktionaersversammlung-teilnehmen-zu-koennen
LOCATION:Hotel-Restaurant Goldener Raben\, Raben 7\, Furtwangen\, Baden-Württemberg\, 78120\, Deutschland
END:VEVENT
END:VCALENDAR